BEGIN:VCALENDAR
VERSION:2.0
PRODID:-//Spændende Mad - ECPv6.15.6//NONSGML v1.0//EN
CALSCALE:GREGORIAN
METHOD:PUBLISH
X-ORIGINAL-URL:https://spaendendemad.dk
X-WR-CALDESC:Begivenheder for Spændende Mad
REFRESH-INTERVAL;VALUE=DURATION:PT1H
X-Robots-Tag:noindex
X-PUBLISHED-TTL:PT1H
BEGIN:VTIMEZONE
TZID:Europe/Copenhagen
BEGIN:DAYLIGHT
TZOFFSETFROM:+0100
TZOFFSETTO:+0200
TZNAME:CEST
DTSTART:20240331T010000
END:DAYLIGHT
BEGIN:STANDARD
TZOFFSETFROM:+0200
TZOFFSETTO:+0100
TZNAME:CET
DTSTART:20241027T010000
END:STANDARD
BEGIN:DAYLIGHT
TZOFFSETFROM:+0100
TZOFFSETTO:+0200
TZNAME:CEST
DTSTART:20250330T010000
END:DAYLIGHT
BEGIN:STANDARD
TZOFFSETFROM:+0200
TZOFFSETTO:+0100
TZNAME:CET
DTSTART:20251026T010000
END:STANDARD
BEGIN:DAYLIGHT
TZOFFSETFROM:+0100
TZOFFSETTO:+0200
TZNAME:CEST
DTSTART:20260329T010000
END:DAYLIGHT
BEGIN:STANDARD
TZOFFSETFROM:+0200
TZOFFSETTO:+0100
TZNAME:CET
DTSTART:20261025T010000
END:STANDARD
END:VTIMEZONE
BEGIN:VEVENT
DTSTART;TZID=Europe/Copenhagen:20251021T120000
DTEND;TZID=Europe/Copenhagen:20251021T170000
DTSTAMP:20260420T114715
CREATED:20251020T105814Z
LAST-MODIFIED:20251020T105821Z
UID:10000568-1761048000-1761066000@spaendendemad.dk
SUMMARY:Mindesammenkomst
DESCRIPTION:
URL:https://spaendendemad.dk/event/mindesammenkomst-5/
END:VEVENT
BEGIN:VEVENT
DTSTART;VALUE=DATE:20251022
DTEND;VALUE=DATE:20251023
DTSTAMP:20260420T114715
CREATED:20251007T112130Z
LAST-MODIFIED:20251007T112135Z
UID:10000292-1761091200-1761177599@spaendendemad.dk
SUMMARY:Madlavningshold
DESCRIPTION:
URL:https://spaendendemad.dk/event/madlavningshold/
END:VEVENT
BEGIN:VEVENT
DTSTART;TZID=Europe/Copenhagen:20251024T120000
DTEND;TZID=Europe/Copenhagen:20251024T170000
DTSTAMP:20260420T114715
CREATED:20251020T105852Z
LAST-MODIFIED:20251020T105858Z
UID:10000569-1761307200-1761325200@spaendendemad.dk
SUMMARY:Mindesammenkomst
DESCRIPTION:
URL:https://spaendendemad.dk/event/mindesammenkomst-6/
END:VEVENT
BEGIN:VEVENT
DTSTART;VALUE=DATE:20251025
DTEND;VALUE=DATE:20251026
DTSTAMP:20260420T114715
CREATED:20251007T103753Z
LAST-MODIFIED:20251007T103759Z
UID:10000004-1761350400-1761436799@spaendendemad.dk
SUMMARY:optaget
DESCRIPTION:
URL:https://spaendendemad.dk/event/optaget/
END:VEVENT
END:VCALENDAR