BEGIN:VCALENDAR
VERSION:2.0
PRODID:-//Spændende Mad - ECPv6.15.6//NONSGML v1.0//EN
CALSCALE:GREGORIAN
METHOD:PUBLISH
X-ORIGINAL-URL:https://spaendendemad.dk
X-WR-CALDESC:Begivenheder for Spændende Mad
REFRESH-INTERVAL;VALUE=DURATION:PT1H
X-Robots-Tag:noindex
X-PUBLISHED-TTL:PT1H
BEGIN:VTIMEZONE
TZID:Europe/Copenhagen
BEGIN:DAYLIGHT
TZOFFSETFROM:+0100
TZOFFSETTO:+0200
TZNAME:CEST
DTSTART:20250330T010000
END:DAYLIGHT
BEGIN:STANDARD
TZOFFSETFROM:+0200
TZOFFSETTO:+0100
TZNAME:CET
DTSTART:20251026T010000
END:STANDARD
BEGIN:DAYLIGHT
TZOFFSETFROM:+0100
TZOFFSETTO:+0200
TZNAME:CEST
DTSTART:20260329T010000
END:DAYLIGHT
BEGIN:STANDARD
TZOFFSETFROM:+0200
TZOFFSETTO:+0100
TZNAME:CET
DTSTART:20261025T010000
END:STANDARD
BEGIN:DAYLIGHT
TZOFFSETFROM:+0100
TZOFFSETTO:+0200
TZNAME:CEST
DTSTART:20270328T010000
END:DAYLIGHT
BEGIN:STANDARD
TZOFFSETFROM:+0200
TZOFFSETTO:+0100
TZNAME:CET
DTSTART:20271031T010000
END:STANDARD
END:VTIMEZONE
BEGIN:VEVENT
DTSTART;TZID=Europe/Copenhagen:20260114T120000
DTEND;TZID=Europe/Copenhagen:20260114T170000
DTSTAMP:20260419T151206
CREATED:20260112T081320Z
LAST-MODIFIED:20260112T081327Z
UID:10000589-1768392000-1768410000@spaendendemad.dk
SUMMARY:Mindesammenkomst
DESCRIPTION:
URL:https://spaendendemad.dk/event/mindesammenkomst-9/
END:VEVENT
BEGIN:VEVENT
DTSTART;VALUE=DATE:20260117
DTEND;VALUE=DATE:20260118
DTSTAMP:20260419T151206
CREATED:20251014T181035Z
LAST-MODIFIED:20260112T121906Z
UID:10000307-1768608000-1768694399@spaendendemad.dk
SUMMARY:Mindesammenkomst
DESCRIPTION:
URL:https://spaendendemad.dk/event/optaget-fest-25/
END:VEVENT
END:VCALENDAR