BEGIN:VCALENDAR
VERSION:2.0
PRODID:-//Spændende Mad - ECPv6.15.6//NONSGML v1.0//EN
CALSCALE:GREGORIAN
METHOD:PUBLISH
X-WR-CALNAME:Spændende Mad
X-ORIGINAL-URL:https://spaendendemad.dk
X-WR-CALDESC:Begivenheder for Spændende Mad
REFRESH-INTERVAL;VALUE=DURATION:PT1H
X-Robots-Tag:noindex
X-PUBLISHED-TTL:PT1H
BEGIN:VTIMEZONE
TZID:Europe/Copenhagen
BEGIN:DAYLIGHT
TZOFFSETFROM:+0100
TZOFFSETTO:+0200
TZNAME:CEST
DTSTART:20250330T010000
END:DAYLIGHT
BEGIN:STANDARD
TZOFFSETFROM:+0200
TZOFFSETTO:+0100
TZNAME:CET
DTSTART:20251026T010000
END:STANDARD
BEGIN:DAYLIGHT
TZOFFSETFROM:+0100
TZOFFSETTO:+0200
TZNAME:CEST
DTSTART:20260329T010000
END:DAYLIGHT
BEGIN:STANDARD
TZOFFSETFROM:+0200
TZOFFSETTO:+0100
TZNAME:CET
DTSTART:20261025T010000
END:STANDARD
BEGIN:DAYLIGHT
TZOFFSETFROM:+0100
TZOFFSETTO:+0200
TZNAME:CEST
DTSTART:20270328T010000
END:DAYLIGHT
BEGIN:STANDARD
TZOFFSETFROM:+0200
TZOFFSETTO:+0100
TZNAME:CET
DTSTART:20271031T010000
END:STANDARD
END:VTIMEZONE
BEGIN:VEVENT
DTSTART;VALUE=DATE:20260807
DTEND;VALUE=DATE:20260808
DTSTAMP:20260421T171434
CREATED:20260330T090348Z
LAST-MODIFIED:20260330T090355Z
UID:10000919-1786060800-1786147199@spaendendemad.dk
SUMMARY:Optaget "dagen før fest"
DESCRIPTION:Optaget
URL:https://spaendendemad.dk/event/optaget-dagen-foer-fest-5/
END:VEVENT
BEGIN:VEVENT
DTSTART;VALUE=DATE:20260808
DTEND;VALUE=DATE:20260809
DTSTAMP:20260421T171434
CREATED:20260330T090305Z
LAST-MODIFIED:20260330T090311Z
UID:10000918-1786147200-1786233599@spaendendemad.dk
SUMMARY:optaget fest
DESCRIPTION:
URL:https://spaendendemad.dk/event/optaget-fest-57/
END:VEVENT
END:VCALENDAR