BEGIN:VCALENDAR
VERSION:2.0
PRODID:-//Spændende Mad - ECPv6.15.6//NONSGML v1.0//EN
CALSCALE:GREGORIAN
METHOD:PUBLISH
X-WR-CALNAME:Spændende Mad
X-ORIGINAL-URL:https://spaendendemad.dk
X-WR-CALDESC:Begivenheder for Spændende Mad
REFRESH-INTERVAL;VALUE=DURATION:PT1H
X-Robots-Tag:noindex
X-PUBLISHED-TTL:PT1H
BEGIN:VTIMEZONE
TZID:Europe/Copenhagen
BEGIN:DAYLIGHT
TZOFFSETFROM:+0100
TZOFFSETTO:+0200
TZNAME:CEST
DTSTART:20250330T010000
END:DAYLIGHT
BEGIN:STANDARD
TZOFFSETFROM:+0200
TZOFFSETTO:+0100
TZNAME:CET
DTSTART:20251026T010000
END:STANDARD
BEGIN:DAYLIGHT
TZOFFSETFROM:+0100
TZOFFSETTO:+0200
TZNAME:CEST
DTSTART:20260329T010000
END:DAYLIGHT
BEGIN:STANDARD
TZOFFSETFROM:+0200
TZOFFSETTO:+0100
TZNAME:CET
DTSTART:20261025T010000
END:STANDARD
BEGIN:DAYLIGHT
TZOFFSETFROM:+0100
TZOFFSETTO:+0200
TZNAME:CEST
DTSTART:20270328T010000
END:DAYLIGHT
BEGIN:STANDARD
TZOFFSETFROM:+0200
TZOFFSETTO:+0100
TZNAME:CET
DTSTART:20271031T010000
END:STANDARD
END:VTIMEZONE
BEGIN:VEVENT
DTSTART;VALUE=DATE:20260926
DTEND;VALUE=DATE:20260927
DTSTAMP:20260422T043203
CREATED:20260211T171803Z
LAST-MODIFIED:20260211T171810Z
UID:10000624-1790380800-1790467199@spaendendemad.dk
SUMMARY:Optaget Fest
DESCRIPTION:
URL:https://spaendendemad.dk/event/optaget-fest-45/
END:VEVENT
BEGIN:VEVENT
DTSTART;VALUE=DATE:20260926
DTEND;VALUE=DATE:20260927
DTSTAMP:20260422T043204
CREATED:20260302T175249Z
LAST-MODIFIED:20260302T175256Z
UID:10000640-1790380800-1790467199@spaendendemad.dk
SUMMARY:Optaget fest
DESCRIPTION:
URL:https://spaendendemad.dk/event/optaget-fest-49/
END:VEVENT
END:VCALENDAR